BEGIN:VCALENDAR
VERSION:2.0
PRODID:-//Vereinsnetz Könnern - ECPv6.15.20//NONSGML v1.0//EN
CALSCALE:GREGORIAN
METHOD:PUBLISH
X-WR-CALNAME:Vereinsnetz Könnern
X-ORIGINAL-URL:https://www.vereinsnetz-koennern.de
X-WR-CALDESC:Veranstaltungen für Vereinsnetz Könnern
REFRESH-INTERVAL;VALUE=DURATION:PT1H
X-Robots-Tag:noindex
X-PUBLISHED-TTL:PT1H
BEGIN:VTIMEZONE
TZID:Europe/Berlin
BEGIN:DAYLIGHT
TZOFFSETFROM:+0100
TZOFFSETTO:+0200
TZNAME:CEST
DTSTART:20250330T010000
END:DAYLIGHT
BEGIN:STANDARD
TZOFFSETFROM:+0200
TZOFFSETTO:+0100
TZNAME:CET
DTSTART:20251026T010000
END:STANDARD
BEGIN:DAYLIGHT
TZOFFSETFROM:+0100
TZOFFSETTO:+0200
TZNAME:CEST
DTSTART:20260329T010000
END:DAYLIGHT
BEGIN:STANDARD
TZOFFSETFROM:+0200
TZOFFSETTO:+0100
TZNAME:CET
DTSTART:20261025T010000
END:STANDARD
BEGIN:DAYLIGHT
TZOFFSETFROM:+0100
TZOFFSETTO:+0200
TZNAME:CEST
DTSTART:20270328T010000
END:DAYLIGHT
BEGIN:STANDARD
TZOFFSETFROM:+0200
TZOFFSETTO:+0100
TZNAME:CET
DTSTART:20271031T010000
END:STANDARD
END:VTIMEZONE
BEGIN:VEVENT
DTSTART;TZID=Europe/Berlin:20260905T100000
DTEND;TZID=Europe/Berlin:20260905T160000
DTSTAMP:20260420T173233
CREATED:20260224T183130Z
LAST-MODIFIED:20260224T183402Z
UID:1271-1788602400-1788624000@www.vereinsnetz-koennern.de
SUMMARY:Erster Patenschaftstag auf dem NaturGut
DESCRIPTION:Zum ersten Mal treffen sich auf unserem Hof alle Tierpatinnen und Tierpaten\, um ihr Patentier kennenzulernen\, wiederzusehen und gemeinsame Zeit zu verbringen. Ihr könnt bei der Fütterung helfen\, eine Gassirunde begleiten oder einfach Nähe und Verbindung zu „eurem“ Tier erleben. \nMöchtet ihr auch dabei sein? Schließt doch einfach eine Patenschaft ab – dann gehört ihr beim Treffen auf jeden Fall dazu!
URL:https://www.vereinsnetz-koennern.de/veranstaltung/erster-patenschaftstag-auf-dem-naturgut/
LOCATION:NaturGut Cörmigk\, Cörmigker Mittelstraße 2\, Könnern\, Sachsen-Anhalt\, 06420\, Germany
ORGANIZER;CN="NaturGut C%C3%B6rmigk":MAILTO:info@naturgut-coermigk.de
END:VEVENT
END:VCALENDAR