BEGIN:VCALENDAR
VERSION:2.0
PRODID:-//Vereinsnetz Könnern - ECPv6.15.20//NONSGML v1.0//EN
CALSCALE:GREGORIAN
METHOD:PUBLISH
X-ORIGINAL-URL:https://www.vereinsnetz-koennern.de
X-WR-CALDESC:Veranstaltungen für Vereinsnetz Könnern
REFRESH-INTERVAL;VALUE=DURATION:PT1H
X-Robots-Tag:noindex
X-PUBLISHED-TTL:PT1H
BEGIN:VTIMEZONE
TZID:Europe/Berlin
BEGIN:DAYLIGHT
TZOFFSETFROM:+0100
TZOFFSETTO:+0200
TZNAME:CEST
DTSTART:20250330T010000
END:DAYLIGHT
BEGIN:STANDARD
TZOFFSETFROM:+0200
TZOFFSETTO:+0100
TZNAME:CET
DTSTART:20251026T010000
END:STANDARD
BEGIN:DAYLIGHT
TZOFFSETFROM:+0100
TZOFFSETTO:+0200
TZNAME:CEST
DTSTART:20260329T010000
END:DAYLIGHT
BEGIN:STANDARD
TZOFFSETFROM:+0200
TZOFFSETTO:+0100
TZNAME:CET
DTSTART:20261025T010000
END:STANDARD
BEGIN:DAYLIGHT
TZOFFSETFROM:+0100
TZOFFSETTO:+0200
TZNAME:CEST
DTSTART:20270328T010000
END:DAYLIGHT
BEGIN:STANDARD
TZOFFSETFROM:+0200
TZOFFSETTO:+0100
TZNAME:CET
DTSTART:20271031T010000
END:STANDARD
END:VTIMEZONE
BEGIN:VEVENT
DTSTART;TZID=Europe/Berlin:20261114T140000
DTEND;TZID=Europe/Berlin:20261114T190000
DTSTAMP:20260424T121151
CREATED:20260213T101359Z
LAST-MODIFIED:20260213T101359Z
UID:1196-1794664800-1794682800@www.vereinsnetz-koennern.de
SUMMARY:4. Preisskat in Beesenlaublingen
DESCRIPTION:Seit 2023 wird in Beesenlaublingen ein Preisskat als Abschluß der Spielabende durchgeführt. Gespielt wird in zwei Runden. Der Einsatz beträgt 10 Euro.
URL:https://www.vereinsnetz-koennern.de/veranstaltung/4-preisskat-in-beesenlaublingen/
LOCATION:Heimatstube Beesenlaublingen\, Richard-Kupsch-Str. 50\, Könnern OT Beesenlaublingen\, 06420
ORGANIZER;CN="Heimatverein Beesenlaublingen e. V.":MAILTO:klaus-dieter-herbst@t-online.de
END:VEVENT
END:VCALENDAR