BEGIN:VCALENDAR
VERSION:2.0
PRODID:-//Vereinsnetz Könnern - ECPv6.15.20//NONSGML v1.0//EN
CALSCALE:GREGORIAN
METHOD:PUBLISH
X-ORIGINAL-URL:https://www.vereinsnetz-koennern.de
X-WR-CALDESC:Veranstaltungen für Vereinsnetz Könnern
REFRESH-INTERVAL;VALUE=DURATION:PT1H
X-Robots-Tag:noindex
X-PUBLISHED-TTL:PT1H
BEGIN:VTIMEZONE
TZID:Europe/Berlin
BEGIN:DAYLIGHT
TZOFFSETFROM:+0100
TZOFFSETTO:+0200
TZNAME:CEST
DTSTART:20250330T010000
END:DAYLIGHT
BEGIN:STANDARD
TZOFFSETFROM:+0200
TZOFFSETTO:+0100
TZNAME:CET
DTSTART:20251026T010000
END:STANDARD
BEGIN:DAYLIGHT
TZOFFSETFROM:+0100
TZOFFSETTO:+0200
TZNAME:CEST
DTSTART:20260329T010000
END:DAYLIGHT
BEGIN:STANDARD
TZOFFSETFROM:+0200
TZOFFSETTO:+0100
TZNAME:CET
DTSTART:20261025T010000
END:STANDARD
BEGIN:DAYLIGHT
TZOFFSETFROM:+0100
TZOFFSETTO:+0200
TZNAME:CEST
DTSTART:20270328T010000
END:DAYLIGHT
BEGIN:STANDARD
TZOFFSETFROM:+0200
TZOFFSETTO:+0100
TZNAME:CET
DTSTART:20271031T010000
END:STANDARD
END:VTIMEZONE
BEGIN:VEVENT
DTSTART;VALUE=DATE:20261205
DTEND;VALUE=DATE:20261206
DTSTAMP:20260422T123852
CREATED:20260407T130800Z
LAST-MODIFIED:20260407T130800Z
UID:1378-1796428800-1796515199@www.vereinsnetz-koennern.de
SUMMARY:5. Adventsmarkt des Heimat- und Ponyvereins Trebitz (an der Schule)
DESCRIPTION:
URL:https://www.vereinsnetz-koennern.de/veranstaltung/5-adventsmarkt-des-heimat-und-ponyvereins-trebitz-an-der-schule/
END:VEVENT
BEGIN:VEVENT
DTSTART;TZID=Europe/Berlin:20261205T150000
DTEND;TZID=Europe/Berlin:20261205T210000
DTSTAMP:20260422T123852
CREATED:20260213T102604Z
LAST-MODIFIED:20260213T102813Z
UID:1200-1796482800-1796504400@www.vereinsnetz-koennern.de
SUMMARY:2. Weihnachtsmarkt in Beesenlaublingen
DESCRIPTION:Der Heimatverein Beesenlaublingen\, der Beesener Parkverein und der Verein der Freiwilligen Feuerwehr Beesenlaublingen laden zu einem Weihnachtsmarkt an den Eingang des Beesener Parks ein. Für Essen (Parkverein) und Getränke (Feuerwehr) wird gesorgt. Es wird auch wieder einen Stand mit kleinen Basteleien und Naschereien (Heimatverein) geben\, die gegen eine Spende erworben werden können.
URL:https://www.vereinsnetz-koennern.de/veranstaltung/2-weihnachtsmarkt-in-beesenlaublingen/
LOCATION:Parkeingang (Bauernstube) in Beesenlaublingen
ORGANIZER;CN="Heimatverein Beesenlaublingen e. V.":MAILTO:klaus-dieter-herbst@t-online.de
END:VEVENT
BEGIN:VEVENT
DTSTART;TZID=Europe/Berlin:20261205T150000
DTEND;TZID=Europe/Berlin:20261205T210000
DTSTAMP:20260422T123852
CREATED:20260421T143333Z
LAST-MODIFIED:20260421T171056Z
UID:1454-1796482800-1796504400@www.vereinsnetz-koennern.de
SUMMARY:2. Weihnachtsmarkt in Beesenlaublingen.
DESCRIPTION:Der Förderverein Feuerwehr Beesenlaublingen e.V und der Heimatverein Beesenlaublingen e.V. sowie der Beesener Parkverein e.V. laden zum 2. Weihnachtsmarkt Ein. Für Essen (Parkverein) und Getränke (Feuerwehr) wird gesorgt. Es wird auch wieder einen Stand mit kleinen Basteleien und Naschereien (Heimatverein) geben\, die gegen eine Spende erworben werden können.
URL:https://www.vereinsnetz-koennern.de/veranstaltung/2-weihnachtsmarkt-in-beesenlaublingen-2/
LOCATION:Bauernstube Beesenlaublingen
ORGANIZER;CN="Heimatverein Beesenlaublingen e. V.":MAILTO:klaus-dieter-herbst@t-online.de
END:VEVENT
END:VCALENDAR