BEGIN:VCALENDAR
VERSION:2.0
PRODID:-//Vereinsnetz Könnern - ECPv6.15.20//NONSGML v1.0//EN
CALSCALE:GREGORIAN
METHOD:PUBLISH
X-ORIGINAL-URL:https://www.vereinsnetz-koennern.de
X-WR-CALDESC:Veranstaltungen für Vereinsnetz Könnern
REFRESH-INTERVAL;VALUE=DURATION:PT1H
X-Robots-Tag:noindex
X-PUBLISHED-TTL:PT1H
BEGIN:VTIMEZONE
TZID:Europe/Berlin
BEGIN:DAYLIGHT
TZOFFSETFROM:+0100
TZOFFSETTO:+0200
TZNAME:CEST
DTSTART:20250330T010000
END:DAYLIGHT
BEGIN:STANDARD
TZOFFSETFROM:+0200
TZOFFSETTO:+0100
TZNAME:CET
DTSTART:20251026T010000
END:STANDARD
BEGIN:DAYLIGHT
TZOFFSETFROM:+0100
TZOFFSETTO:+0200
TZNAME:CEST
DTSTART:20260329T010000
END:DAYLIGHT
BEGIN:STANDARD
TZOFFSETFROM:+0200
TZOFFSETTO:+0100
TZNAME:CET
DTSTART:20261025T010000
END:STANDARD
BEGIN:DAYLIGHT
TZOFFSETFROM:+0100
TZOFFSETTO:+0200
TZNAME:CEST
DTSTART:20270328T010000
END:DAYLIGHT
BEGIN:STANDARD
TZOFFSETFROM:+0200
TZOFFSETTO:+0100
TZNAME:CET
DTSTART:20271031T010000
END:STANDARD
END:VTIMEZONE
BEGIN:VEVENT
DTSTART;TZID=Europe/Berlin:20261219T170000
DTEND;TZID=Europe/Berlin:20261219T220000
DTSTAMP:20260423T110059
CREATED:20260119T075635Z
LAST-MODIFIED:20260119T075653Z
UID:1013-1797699600-1797717600@www.vereinsnetz-koennern.de
SUMMARY:Edlauer Weihnachtsmarkt
DESCRIPTION:
URL:https://www.vereinsnetz-koennern.de/veranstaltung/edlauer-weihnachtsmarkt/
LOCATION:Gut Edlau\, Mittelstraße 1\, Mitteledlau\, Sachsen-Anhalt\, 06420\, Germany
ORGANIZER;CN="Edlauer Heimatverein e.V.":MAILTO:edlauer-heimatverein@gmx.de
END:VEVENT
END:VCALENDAR