BEGIN:VCALENDAR
VERSION:2.0
PRODID:-//Vereinsnetz Könnern - ECPv6.15.20//NONSGML v1.0//EN
CALSCALE:GREGORIAN
METHOD:PUBLISH
X-WR-CALNAME:Vereinsnetz Könnern
X-ORIGINAL-URL:https://www.vereinsnetz-koennern.de
X-WR-CALDESC:Veranstaltungen für Vereinsnetz Könnern
REFRESH-INTERVAL;VALUE=DURATION:PT1H
X-Robots-Tag:noindex
X-PUBLISHED-TTL:PT1H
BEGIN:VTIMEZONE
TZID:Europe/Berlin
BEGIN:DAYLIGHT
TZOFFSETFROM:+0100
TZOFFSETTO:+0200
TZNAME:CEST
DTSTART:20250330T010000
END:DAYLIGHT
BEGIN:STANDARD
TZOFFSETFROM:+0200
TZOFFSETTO:+0100
TZNAME:CET
DTSTART:20251026T010000
END:STANDARD
BEGIN:DAYLIGHT
TZOFFSETFROM:+0100
TZOFFSETTO:+0200
TZNAME:CEST
DTSTART:20260329T010000
END:DAYLIGHT
BEGIN:STANDARD
TZOFFSETFROM:+0200
TZOFFSETTO:+0100
TZNAME:CET
DTSTART:20261025T010000
END:STANDARD
BEGIN:DAYLIGHT
TZOFFSETFROM:+0100
TZOFFSETTO:+0200
TZNAME:CEST
DTSTART:20270328T010000
END:DAYLIGHT
BEGIN:STANDARD
TZOFFSETFROM:+0200
TZOFFSETTO:+0100
TZNAME:CET
DTSTART:20271031T010000
END:STANDARD
END:VTIMEZONE
BEGIN:VEVENT
DTSTART;TZID=Europe/Berlin:20260811T140000
DTEND;TZID=Europe/Berlin:20260811T170000
DTSTAMP:20260420T154521
CREATED:20260103T233624Z
LAST-MODIFIED:20260103T233624Z
UID:890-1786456800-1786467600@www.vereinsnetz-koennern.de
SUMMARY:Kaffeenachmittag im Kulturhaus in Belleben
DESCRIPTION:
URL:https://www.vereinsnetz-koennern.de/veranstaltung/kaffeenachmittag-im-kulturhaus-in-belleben/
LOCATION:Kulturhaus Belleben\, Alslebener Straße 68\, Könnern\, OT Belleben\, Sachsen-Anhalt\, 06420\, Germany
END:VEVENT
BEGIN:VEVENT
DTSTART;TZID=Europe/Berlin:20260822T090000
DTEND;TZID=Europe/Berlin:20260822T220000
DTSTAMP:20260420T154521
CREATED:20260119T075421Z
LAST-MODIFIED:20260119T075421Z
UID:1009-1787389200-1787436000@www.vereinsnetz-koennern.de
SUMMARY:Edlauer Dorf- und Schützenfest
DESCRIPTION:
URL:https://www.vereinsnetz-koennern.de/veranstaltung/edlauer-dorf-und-schuetzenfest/
LOCATION:Dorfgemeinschaftshaus Hohenedlau\, Hohe Straße 51\, Hohenedlau\, Sachsen-Anhalt\, 06420\, Germany
ORGANIZER;CN="Edlauer Heimatverein e.V.":MAILTO:edlauer-heimatverein@gmx.de
END:VEVENT
BEGIN:VEVENT
DTSTART;TZID=Europe/Berlin:20260825T140000
DTEND;TZID=Europe/Berlin:20260825T170000
DTSTAMP:20260420T154521
CREATED:20260103T233908Z
LAST-MODIFIED:20260103T233908Z
UID:892-1787666400-1787677200@www.vereinsnetz-koennern.de
SUMMARY:Kaffeenachmittag im Kulturhaus in Belleben
DESCRIPTION:
URL:https://www.vereinsnetz-koennern.de/veranstaltung/kaffeenachmittag-im-kulturhaus-in-belleben-2/
LOCATION:Kulturhaus Belleben\, Alslebener Straße 68\, Könnern\, OT Belleben\, Sachsen-Anhalt\, 06420\, Germany
END:VEVENT
END:VCALENDAR