BEGIN:VCALENDAR
VERSION:2.0
PRODID:-//Vereinsnetz Könnern - ECPv6.15.20//NONSGML v1.0//EN
CALSCALE:GREGORIAN
METHOD:PUBLISH
X-WR-CALNAME:Vereinsnetz Könnern
X-ORIGINAL-URL:https://www.vereinsnetz-koennern.de
X-WR-CALDESC:Veranstaltungen für Vereinsnetz Könnern
REFRESH-INTERVAL;VALUE=DURATION:PT1H
X-Robots-Tag:noindex
X-PUBLISHED-TTL:PT1H
BEGIN:VTIMEZONE
TZID:Europe/Berlin
BEGIN:DAYLIGHT
TZOFFSETFROM:+0100
TZOFFSETTO:+0200
TZNAME:CEST
DTSTART:20250330T010000
END:DAYLIGHT
BEGIN:STANDARD
TZOFFSETFROM:+0200
TZOFFSETTO:+0100
TZNAME:CET
DTSTART:20251026T010000
END:STANDARD
BEGIN:DAYLIGHT
TZOFFSETFROM:+0100
TZOFFSETTO:+0200
TZNAME:CEST
DTSTART:20260329T010000
END:DAYLIGHT
BEGIN:STANDARD
TZOFFSETFROM:+0200
TZOFFSETTO:+0100
TZNAME:CET
DTSTART:20261025T010000
END:STANDARD
BEGIN:DAYLIGHT
TZOFFSETFROM:+0100
TZOFFSETTO:+0200
TZNAME:CEST
DTSTART:20270328T010000
END:DAYLIGHT
BEGIN:STANDARD
TZOFFSETFROM:+0200
TZOFFSETTO:+0100
TZNAME:CET
DTSTART:20271031T010000
END:STANDARD
END:VTIMEZONE
BEGIN:VEVENT
DTSTART;TZID=Europe/Berlin:20260905T100000
DTEND;TZID=Europe/Berlin:20260905T160000
DTSTAMP:20260420T173233
CREATED:20260224T183130Z
LAST-MODIFIED:20260224T183402Z
UID:1271-1788602400-1788624000@www.vereinsnetz-koennern.de
SUMMARY:Erster Patenschaftstag auf dem NaturGut
DESCRIPTION:Zum ersten Mal treffen sich auf unserem Hof alle Tierpatinnen und Tierpaten\, um ihr Patentier kennenzulernen\, wiederzusehen und gemeinsame Zeit zu verbringen. Ihr könnt bei der Fütterung helfen\, eine Gassirunde begleiten oder einfach Nähe und Verbindung zu „eurem“ Tier erleben. \nMöchtet ihr auch dabei sein? Schließt doch einfach eine Patenschaft ab – dann gehört ihr beim Treffen auf jeden Fall dazu!
URL:https://www.vereinsnetz-koennern.de/veranstaltung/erster-patenschaftstag-auf-dem-naturgut/
LOCATION:NaturGut Cörmigk\, Cörmigker Mittelstraße 2\, Könnern\, Sachsen-Anhalt\, 06420\, Germany
ORGANIZER;CN="NaturGut C%C3%B6rmigk":MAILTO:info@naturgut-coermigk.de
END:VEVENT
BEGIN:VEVENT
DTSTART;TZID=Europe/Berlin:20260908T140000
DTEND;TZID=Europe/Berlin:20260908T170000
DTSTAMP:20260420T173233
CREATED:20260103T234042Z
LAST-MODIFIED:20260103T234042Z
UID:894-1788876000-1788886800@www.vereinsnetz-koennern.de
SUMMARY:Kaffeenachmittag im Kulturhaus in Belleben
DESCRIPTION:
URL:https://www.vereinsnetz-koennern.de/veranstaltung/kaffeenachmittag-im-kulturhaus-in-belleben-3/
LOCATION:Kulturhaus Belleben\, Alslebener Straße 68\, Könnern\, OT Belleben\, Sachsen-Anhalt\, 06420\, Germany
END:VEVENT
BEGIN:VEVENT
DTSTART;TZID=Europe/Berlin:20260911T190000
DTEND;TZID=Europe/Berlin:20260911T220000
DTSTAMP:20260420T173233
CREATED:20260213T092944Z
LAST-MODIFIED:20260213T092944Z
UID:1181-1789153200-1789164000@www.vereinsnetz-koennern.de
SUMMARY:Spielabend in Heimatstube Beesenlaublingen
DESCRIPTION:
URL:https://www.vereinsnetz-koennern.de/veranstaltung/spielabend-in-heimatstube-beesenlaublingen-3/
LOCATION:Heimatstube Beesenlaublingen\, Richard-Kupsch-Str. 50\, Könnern OT Beesenlaublingen\, 06420
ORGANIZER;CN="Heimatverein Beesenlaublingen e. V.":MAILTO:klaus-dieter-herbst@t-online.de
END:VEVENT
BEGIN:VEVENT
DTSTART;VALUE=DATE:20260912
DTEND;VALUE=DATE:20260913
DTSTAMP:20260420T173233
CREATED:20260407T130432Z
LAST-MODIFIED:20260407T130432Z
UID:1376-1789171200-1789257599@www.vereinsnetz-koennern.de
SUMMARY:Erntefest mit Traktoren- und Oldtimertreffen sowie Flohmarkt für Groß und Klein
DESCRIPTION:Auf dem Platz des Heimat- und Ponyvereins Trebitz (Ortsausgang Richtung Lebendorf) bei Interesse bitte melden bei ponyverein.trebitz@gmx.de
URL:https://www.vereinsnetz-koennern.de/veranstaltung/erntefest-mit-traktoren-und-oldtimertreffen-sowie-flohmarkt-fuer-gross-und-klein/
END:VEVENT
BEGIN:VEVENT
DTSTART;TZID=Europe/Berlin:20260912T190000
DTEND;TZID=Europe/Berlin:20260912T213000
DTSTAMP:20260420T173233
CREATED:20260213T092641Z
LAST-MODIFIED:20260213T092641Z
UID:1179-1789239600-1789248600@www.vereinsnetz-koennern.de
SUMMARY:Vortrag über die früheren Tischlereien: in Heimatstube Beesenlaublingen
DESCRIPTION:In Beesenlaublingen gibt es heute noch eine Tischlerei (Firma Halle). Früher gab es mehrere Tischler (Steffens/Labbert/Halle) und Stellmacher (Haarstrick/Halle) im Ort. Der Referent Dr. Klaus-Dieter Herbst wird die verschiedenen Firmen vorstellen. Dazu wertet er historische Unterlagen aus\, die im Archiv des Heimatvereins überliefert sind. \nWer historische Unterlagen und Fotos von den Tischlern und Stellmachern besitzt\, wird gebeten\, diese für den Vortrag zur Verfügung zu stellen.
URL:https://www.vereinsnetz-koennern.de/veranstaltung/vortrag-ueber-die-frueheren-tischlereien-in-heimatstube-beesenlaublingen/
LOCATION:Heimatstube Beesenlaublingen\, Richard-Kupsch-Str. 50\, Könnern OT Beesenlaublingen\, 06420
ORGANIZER;CN="Heimatverein Beesenlaublingen e. V.":MAILTO:klaus-dieter-herbst@t-online.de
END:VEVENT
BEGIN:VEVENT
DTSTART;TZID=Europe/Berlin:20260919T170000
DTEND;TZID=Europe/Berlin:20260919T200000
DTSTAMP:20260420T173233
CREATED:20260220T073605Z
LAST-MODIFIED:20260220T073605Z
UID:1237-1789837200-1789848000@www.vereinsnetz-koennern.de
SUMMARY:Konzert in der Kirche
DESCRIPTION:
URL:https://www.vereinsnetz-koennern.de/veranstaltung/konzert-in-der-kirche/
ORGANIZER;CN="Edlauer Heimatverein e.V.":MAILTO:edlauer-heimatverein@gmx.de
END:VEVENT
BEGIN:VEVENT
DTSTART;TZID=Europe/Berlin:20260922T140000
DTEND;TZID=Europe/Berlin:20260922T170000
DTSTAMP:20260420T173233
CREATED:20260103T234234Z
LAST-MODIFIED:20260103T234234Z
UID:896-1790085600-1790096400@www.vereinsnetz-koennern.de
SUMMARY:Kaffeenachmittag mit Bingo im Kulturhaus in Belleben
DESCRIPTION:
URL:https://www.vereinsnetz-koennern.de/veranstaltung/kaffeenachmittag-mit-bingo-im-kulturhaus-in-belleben/
LOCATION:Kulturhaus Belleben\, Alslebener Straße 68\, Könnern\, OT Belleben\, Sachsen-Anhalt\, 06420\, Germany
END:VEVENT
BEGIN:VEVENT
DTSTART;TZID=Europe/Berlin:20260923T150000
DTEND;TZID=Europe/Berlin:20260923T170000
DTSTAMP:20260420T173233
CREATED:20260213T091720Z
LAST-MODIFIED:20260213T091720Z
UID:1177-1790175600-1790182800@www.vereinsnetz-koennern.de
SUMMARY:Kaffeklatsch in Heimatstube Beesenlaublingen
DESCRIPTION:
URL:https://www.vereinsnetz-koennern.de/veranstaltung/kaffeklatsch-in-heimatstube-beesenlaublingen-2/
LOCATION:Heimatstube Beesenlaublingen\, Richard-Kupsch-Str. 50\, Könnern OT Beesenlaublingen\, 06420
ORGANIZER;CN="Heimatverein Beesenlaublingen e. V.":MAILTO:klaus-dieter-herbst@t-online.de
END:VEVENT
END:VCALENDAR