BEGIN:VCALENDAR
VERSION:2.0
PRODID:-//Vereinsnetz Könnern - ECPv6.15.20//NONSGML v1.0//EN
CALSCALE:GREGORIAN
METHOD:PUBLISH
X-ORIGINAL-URL:https://www.vereinsnetz-koennern.de
X-WR-CALDESC:Veranstaltungen für Vereinsnetz Könnern
REFRESH-INTERVAL;VALUE=DURATION:PT1H
X-Robots-Tag:noindex
X-PUBLISHED-TTL:PT1H
BEGIN:VTIMEZONE
TZID:Europe/Berlin
BEGIN:DAYLIGHT
TZOFFSETFROM:+0100
TZOFFSETTO:+0200
TZNAME:CEST
DTSTART:20250330T010000
END:DAYLIGHT
BEGIN:STANDARD
TZOFFSETFROM:+0200
TZOFFSETTO:+0100
TZNAME:CET
DTSTART:20251026T010000
END:STANDARD
BEGIN:DAYLIGHT
TZOFFSETFROM:+0100
TZOFFSETTO:+0200
TZNAME:CEST
DTSTART:20260329T010000
END:DAYLIGHT
BEGIN:STANDARD
TZOFFSETFROM:+0200
TZOFFSETTO:+0100
TZNAME:CET
DTSTART:20261025T010000
END:STANDARD
BEGIN:DAYLIGHT
TZOFFSETFROM:+0100
TZOFFSETTO:+0200
TZNAME:CEST
DTSTART:20270328T010000
END:DAYLIGHT
BEGIN:STANDARD
TZOFFSETFROM:+0200
TZOFFSETTO:+0100
TZNAME:CET
DTSTART:20271031T010000
END:STANDARD
END:VTIMEZONE
BEGIN:VEVENT
DTSTART;TZID=Europe/Berlin:20261006T140000
DTEND;TZID=Europe/Berlin:20261006T170000
DTSTAMP:20260420T192513
CREATED:20260103T234355Z
LAST-MODIFIED:20260103T234355Z
UID:898-1791295200-1791306000@www.vereinsnetz-koennern.de
SUMMARY:Oktoberfest beim Seniorenclub im Kulturhaus in Belleben
DESCRIPTION:
URL:https://www.vereinsnetz-koennern.de/veranstaltung/oktoberfest-beim-seniorenclub-im-kulturhaus-in-belleben/
LOCATION:Kulturhaus Belleben\, Alslebener Straße 68\, Könnern\, OT Belleben\, Sachsen-Anhalt\, 06420\, Germany
END:VEVENT
BEGIN:VEVENT
DTSTART;TZID=Europe/Berlin:20261009T190000
DTEND;TZID=Europe/Berlin:20261009T220000
DTSTAMP:20260420T192513
CREATED:20260213T093455Z
LAST-MODIFIED:20260213T093455Z
UID:1183-1791572400-1791583200@www.vereinsnetz-koennern.de
SUMMARY:Spielabend in Heimatstube Beesenlaublingen
DESCRIPTION:
URL:https://www.vereinsnetz-koennern.de/veranstaltung/spielabend-in-heimatstube-beesenlaublingen-4/
LOCATION:Heimatstube Beesenlaublingen\, Richard-Kupsch-Str. 50\, Könnern OT Beesenlaublingen\, 06420
ORGANIZER;CN="Heimatverein Beesenlaublingen e. V.":MAILTO:klaus-dieter-herbst@t-online.de
END:VEVENT
BEGIN:VEVENT
DTSTART;TZID=Europe/Berlin:20261010T190000
DTEND;TZID=Europe/Berlin:20261010T213000
DTSTAMP:20260420T192513
CREATED:20260213T094117Z
LAST-MODIFIED:20260213T100005Z
UID:1185-1791658800-1791667800@www.vereinsnetz-koennern.de
SUMMARY:Buchlesung in Heimatstube Beesenlaublingen
DESCRIPTION:Der Heimatverein Beesenlaublingen veranstaltet zum zweiten Mal eine Buchlesung in der Heimatstube „Zur Post“ in Beesenlaublingen (Richard-Kupsch-Str. 50). Der bekannte Autor Michael Schuster (Baalberge) liest aus seinem Buch „Zwischen Roman und Wirklichkeit – Krosigk\, Masius und Wedell – Anhalter gegen Napoleon“. Eine der Figuren\, der Baron von Krosigk\, hatte sein Schloß in Poplitz\, einem Nachbarort von Beesenlaublingen. \nDer Eintritt ist frei\, um eine Spende für den Heimatverein wird gebeten.
URL:https://www.vereinsnetz-koennern.de/veranstaltung/buchlesung-in-heimatstube-beesenlaublingen/
LOCATION:Heimatstube Beesenlaublingen\, Richard-Kupsch-Str. 50\, Könnern OT Beesenlaublingen\, 06420
ORGANIZER;CN="Heimatverein Beesenlaublingen e. V.":MAILTO:klaus-dieter-herbst@t-online.de
END:VEVENT
BEGIN:VEVENT
DTSTART;TZID=Europe/Berlin:20261016T180000
DTEND;TZID=Europe/Berlin:20261016T193000
DTSTAMP:20260420T192513
CREATED:20260213T100354Z
LAST-MODIFIED:20260213T100354Z
UID:1190-1792173600-1792179000@www.vereinsnetz-koennern.de
SUMMARY:Yoga-Kurs in Bauernstube in Beesenlaublingen
DESCRIPTION:Die Yoga-Lehrerin Elisabeth Frenkel bietet auf Initiative des Heimatvereins Beesenlaublingen e. V. mehrmals im Jahr einen Yoga-Kurs in der Bauernstube Beesenlaublingen (LPG-Hof 1\, Eingang zum Park) an. Telefonische Anmeldung: 0152 0905 7085
URL:https://www.vereinsnetz-koennern.de/veranstaltung/yoga-kurs-in-bauernstube-in-beesenlaublingen-2/
LOCATION:Bauernstube Beesenlaublingen
ORGANIZER;CN="Heimatverein Beesenlaublingen e. V.":MAILTO:klaus-dieter-herbst@t-online.de
END:VEVENT
BEGIN:VEVENT
DTSTART;TZID=Europe/Berlin:20261020T140000
DTEND;TZID=Europe/Berlin:20261020T170000
DTSTAMP:20260420T192513
CREATED:20260103T234756Z
LAST-MODIFIED:20260103T234756Z
UID:900-1792504800-1792515600@www.vereinsnetz-koennern.de
SUMMARY:Kaffeenachmittag im Kulturhaus in Belleben
DESCRIPTION:
URL:https://www.vereinsnetz-koennern.de/veranstaltung/kaffeenachmittag-im-kulturhaus-in-belleben-4/
LOCATION:Kulturhaus Belleben\, Alslebener Straße 68\, Könnern\, OT Belleben\, Sachsen-Anhalt\, 06420\, Germany
END:VEVENT
BEGIN:VEVENT
DTSTART;TZID=Europe/Berlin:20261024T000000
DTEND;TZID=Europe/Berlin:20261024T000000
DTSTAMP:20260420T192513
CREATED:20260128T170943Z
LAST-MODIFIED:20260128T170949Z
UID:1115-1792800000-1792800000@www.vereinsnetz-koennern.de
SUMMARY:Herbstfest
DESCRIPTION:
URL:https://www.vereinsnetz-koennern.de/veranstaltung/herbstfest/
END:VEVENT
BEGIN:VEVENT
DTSTART;TZID=Europe/Berlin:20261028T150000
DTEND;TZID=Europe/Berlin:20261028T170000
DTSTAMP:20260420T192513
CREATED:20260213T100543Z
LAST-MODIFIED:20260213T100543Z
UID:1192-1793199600-1793206800@www.vereinsnetz-koennern.de
SUMMARY:Kaffeklatsch in Heimatstube Beesenlaublingen
DESCRIPTION:
URL:https://www.vereinsnetz-koennern.de/veranstaltung/kaffeklatsch-in-heimatstube-beesenlaublingen-3/
LOCATION:Heimatstube Beesenlaublingen\, Richard-Kupsch-Str. 50\, Könnern OT Beesenlaublingen\, 06420
ORGANIZER;CN="Heimatverein Beesenlaublingen e. V.":MAILTO:klaus-dieter-herbst@t-online.de
END:VEVENT
BEGIN:VEVENT
DTSTART;TZID=Europe/Berlin:20261031T173000
DTEND;TZID=Europe/Berlin:20261031T220000
DTSTAMP:20260420T192513
CREATED:20260119T075510Z
LAST-MODIFIED:20260119T075804Z
UID:1011-1793467800-1793484000@www.vereinsnetz-koennern.de
SUMMARY:Halloweenparty in Edlau
DESCRIPTION:
URL:https://www.vereinsnetz-koennern.de/veranstaltung/halloweenparty/
LOCATION:Dorfgemeinschaftshaus Hohenedlau\, Hohe Straße 51\, Hohenedlau\, Sachsen-Anhalt\, 06420\, Germany
ORGANIZER;CN="Edlauer Heimatverein e.V.":MAILTO:edlauer-heimatverein@gmx.de
END:VEVENT
END:VCALENDAR